BEGIN:VCALENDAR
VERSION:2.0
PRODID:-//Squarespace Inc/Squarespace 6//v6//EN
BEGIN:VEVENT
UID:59b5dab3f7e0abec5d30d2f3@squarespace.com
DTSTAMP:20171002T212729Z
DTSTART:20171007T053000Z
DTEND:20171007T063000Z
SUMMARY:A Guy\, A Girl and a Lawnmower
GEO:-39.637735;176.837494
LOCATION:The Eastbourne\, Corner of Eastbourne and Hastings Streets\, Hasti
 ngs\, New Zealand
END:VEVENT
END:VCALENDAR
