BEGIN:VCALENDAR
VERSION:2.0
PRODID:-//Squarespace Inc/Squarespace 6//v6//EN
BEGIN:VEVENT
UID:59c075072278e7f0d66fa078@squarespace.com
DTSTAMP:20171002T212708Z
DTSTART:20171006T220000Z
DTEND:20171006T224500Z
SUMMARY:Playshop Presents: Once Upon a Something
GEO:-39.637735;176.837494
LOCATION:The Eastbourne\, Corner of Eastbourne and Hastings Streets\, Hasti
 ngs\, New Zealand
END:VEVENT
END:VCALENDAR
