BEGIN:VCALENDAR
VERSION:2.0
PRODID:-//Squarespace Inc/Squarespace 6//v6//EN
BEGIN:VEVENT
UID:59c03f4abce176b25976cd93@squarespace.com
DTSTAMP:20171002T212426Z
DTSTART:20171004T220000Z
DTEND:20171004T224500Z
SUMMARY:Playshop Presents: Once Upon a Something
GEO:-39.637735;176.837494
LOCATION:The Eastbourne\, Corner of Eastbourne and Hastings Streets\, Hasti
 ngs\, New Zealand
END:VEVENT
END:VCALENDAR
