BEGIN:VCALENDAR
VERSION:2.0
PRODID:-//Squarespace Inc/Squarespace 6//v6//EN
BEGIN:VEVENT
UID:59c075b5f5e23187daba95b8@squarespace.com
DTSTAMP:20170924T205937Z
DTSTART:20171007T030000Z
DTEND:20171007T040000Z
SUMMARY:George Fenn - Router Side Walker
GEO:-39.647996;176.849663
LOCATION:Albert Square\, Heretaunga Street East\, Hastings\, Hawke's Bay\, 
 4122\, New Zealand
END:VEVENT
END:VCALENDAR
