BEGIN:VCALENDAR
VERSION:2.0
PRODID:-//Squarespace Inc/Squarespace 6//v6//EN
BEGIN:VEVENT
UID:59b2bda037c581fbf86916ff@squarespace.com
DTSTAMP:20170924T204333Z
DTSTART:20171007T054500Z
DTEND:20171007T064500Z
SUMMARY:James Nokise - Talk a Big Game
GEO:-39.643693;176.844737
LOCATION:The Common Room\, 227 Heretaunga Street East\, Hastings\, Hawke's 
 Bay\, 4122\, New Zealand
END:VEVENT
END:VCALENDAR
