BEGIN:VCALENDAR
VERSION:2.0
PRODID:-//Squarespace Inc/Squarespace 6//v6//EN
BEGIN:VEVENT
UID:59b5e35e8fd4d267470441f4@squarespace.com
DTSTAMP:20170911T011502Z
DTSTART:20171007T070000Z
DTEND:20171007T080000Z
SUMMARY:Jon Bennett - Pretending Things are a Cock
GEO:-39.643693;176.844737
LOCATION:Common Room\, 227 Heretaunga Street East\, Hastings\, Hawke's Bay\
 , 4122\, New Zealand
END:VEVENT
END:VCALENDAR
