BEGIN:VCALENDAR
VERSION:2.0
PRODID:-//Squarespace Inc/Squarespace 6//v6//EN
BEGIN:VEVENT
UID:59b590c2bce17645d653b1bb@squarespace.com
DTSTAMP:20170924T204007Z
DTSTART:20171006T064500Z
DTEND:20171006T074500Z
SUMMARY:Louise Beuvink - Ladylike: A Modern Guide to Etiquette
GEO:-39.642745;176.843838
LOCATION:Hastings Function Centre\, 131 Heretaunga Street East\, Hastings\, 
 Hawke's Bay\, 4122\, New Zealand
END:VEVENT
END:VCALENDAR
