BEGIN:VCALENDAR
VERSION:2.0
PRODID:-//Squarespace Inc/Squarespace 6//v6//EN
BEGIN:VEVENT
UID:59b5919f8dd04187fcf485a6@squarespace.com
DTSTAMP:20170910T212610Z
DTSTART:20171006T090000Z
DTEND:20171006T100000Z
SUMMARY:Revolutionary Arts Ensemble
GEO:-39.643357;176.844466
LOCATION:The Green Room\, 211 Heretaunga Street East\, Hastings\, Hawke's B
 ay\, 4122\, New Zealand
END:VEVENT
END:VCALENDAR
