BEGIN:VCALENDAR
VERSION:2.0
PRODID:-//Squarespace Inc/Squarespace 6//v6//EN
BEGIN:VEVENT
UID:59c819c4d7bdce9aca038b13@squarespace.com
DTSTAMP:20171004T233225Z
DTSTART:20171007T083000Z
DTEND:20171007T093000Z
SUMMARY:Savanna Calton - Resting B*tch Face
GEO:-39.643693;176.844737
LOCATION:The Green Room\, 227 Heretaunga Street East\, Hastings\, Hawke's B
 ay\, 4122\, New Zealand
END:VEVENT
END:VCALENDAR
