BEGIN:VCALENDAR
VERSION:2.0
PRODID:-//Squarespace Inc/Squarespace 6//v6//EN
BEGIN:VEVENT
UID:59b592c8c027d84ada258653@squarespace.com
DTSTAMP:20171001T201052Z
DTSTART:20171007T050000Z
DTEND:20171007T060000Z
SUMMARY:Aimee Smith - Deep South Ceasar
GEO:-39.643357;176.844466
LOCATION:The Green Room\, 211 Heretaunga Street East\, Hastings\, Hawke's B
 ay\, 4122\, New Zealand
END:VEVENT
END:VCALENDAR
