BEGIN:VCALENDAR
VERSION:2.0
PRODID:-//Squarespace Inc/Squarespace 6//v6//EN
BEGIN:VEVENT
UID:59b2bfdd914e6b6d89b60e0e@squarespace.com
DTSTAMP:20171003T212425Z
DTSTART:20171007T043000Z
DTEND:20171007T053000Z
SUMMARY:Jerome Chandrahasen - Five Fun Facts About Finland
GEO:-39.643693;176.844737
LOCATION:common room\, 227 Heretaunga Street East\, Hastings\, Hawke's Bay\
 , 4122\, New Zealand
END:VEVENT
END:VCALENDAR
