BEGIN:VCALENDAR
VERSION:2.0
PRODID:-//Squarespace Inc/Squarespace 6//v6//EN
BEGIN:VEVENT
UID:59b5936d80bd5e49f82f61a8@squarespace.com
DTSTAMP:20170924T204639Z
DTSTART:20171007T090000Z
DTEND:20171007T100000Z
SUMMARY:Fringe in the 'Stings - All Stars Wrap Party
GEO:-39.643693;176.844737
LOCATION:The Common Room\, 227 Heretaunga Street East\, Hastings\, Hawke's 
 Bay\, 4122\, New Zealand
END:VEVENT
END:VCALENDAR
