BEGIN:VCALENDAR
VERSION:2.0
PRODID:-//Squarespace Inc/Squarespace 6//v6//EN
BEGIN:VEVENT
UID:59b58c5ef7e0abec5d2cd169@squarespace.com
DTSTAMP:20171002T212755Z
DTSTART:20171007T071500Z
DTEND:20171007T081500Z
SUMMARY:Simon Kingsley-Holmes - Tat from Tit
GEO:-39.637735;176.837494
LOCATION:The Eastbourne\, Corner of Eastbourne and Hastings Streets\, Hasti
 ngs\, New Zealand
END:VEVENT
END:VCALENDAR
