BEGIN:VCALENDAR
VERSION:2.0
PRODID:-//Squarespace Inc/Squarespace 6//v6//EN
BEGIN:VEVENT
UID:59c81a54b7411c52671ba1b9@squarespace.com
DTSTAMP:20171001T200831Z
DTSTART:20171007T064500Z
DTEND:20171007T074500Z
SUMMARY:Laugh Club  Presents: Tarun Mohanbhai and Nick Rado
END:VEVENT
END:VCALENDAR
