BEGIN:VCALENDAR
VERSION:2.0
PRODID:-//Squarespace Inc/Squarespace 6//v6//EN
BEGIN:VEVENT
UID:59b5e2c4f43b5595acf39211@squarespace.com
DTSTAMP:20170924T204102Z
DTSTART:20171006T083000Z
DTEND:20171006T093000Z
SUMMARY:Tom Knowles - Allergic to Love\, Curse of the 80s
GEO:-39.642745;176.843838
LOCATION:Hastings Function Centre\, 131 Heretaunga Street East\, Hastings\, 
 Hawke's Bay\, 4122\, New Zealand
END:VEVENT
END:VCALENDAR
