BEGIN:VCALENDAR
VERSION:2.0
PRODID:-//Squarespace Inc/Squarespace 6//v6//EN
BEGIN:VEVENT
UID:59b58431ccc5c5736a3a1051@squarespace.com
DTSTAMP:20171002T003825Z
DTSTART:20171007T083000Z
DTEND:20171007T093000Z
SUMMARY:Apple Box Presents Jacobs Party
GEO:-39.642745;176.843838
LOCATION:Hastings Function Centre\, 131 Heretaunga Street East\, Hastings\, 
 Hawke's Bay\, 4122\, New Zealand
END:VEVENT
END:VCALENDAR
