BEGIN:VCALENDAR
VERSION:2.0
PRODID:-//Squarespace Inc/Squarespace 6//v6//EN
BEGIN:VEVENT
UID:59b58282b7411c6d020aaaa4@squarespace.com
DTSTAMP:20170920T212628Z
DTSTART:20171007T050000Z
DTEND:20171007T060000Z
SUMMARY:Hilaire Carmody - Bogan Yoga
END:VEVENT
END:VCALENDAR
