BEGIN:VCALENDAR
VERSION:2.0
PRODID:-//Squarespace Inc/Squarespace 6//v6//EN
BEGIN:VEVENT
UID:59b5e62b1f318d4561ad1834@squarespace.com
DTSTAMP:20171002T212818Z
DTSTART:20171007T083000Z
DTEND:20171007T093000Z
SUMMARY:This is Steve
GEO:-39.637735;176.837494
LOCATION:The Eastbourne\, Corner of Eastbourne and Hastings Streets\, Hasti
 ngs\, New Zealand
END:VEVENT
END:VCALENDAR
