BEGIN:VCALENDAR
VERSION:2.0
PRODID:-//Squarespace Inc/Squarespace 6//v6//EN
BEGIN:VEVENT
UID:59b58b92cd39c304a145d269@squarespace.com
DTSTAMP:20171002T212649Z
DTSTART:20171006T090000Z
DTEND:20171006T100000Z
SUMMARY:This is Steve
GEO:-39.637735;176.837494
LOCATION:The Eastbourne\, Corner of Eastbourne and Hastings Streets\, Hasti
 ngs\, New Zealand
END:VEVENT
END:VCALENDAR
