BEGIN:VCALENDAR
VERSION:2.0
PRODID:-//Squarespace Inc/Squarespace 6//v6//EN
BEGIN:VEVENT
UID:59b5e49ea803bb7536f87a14@squarespace.com
DTSTAMP:20170924T210256Z
DTSTART:20171007T064500Z
DTEND:20171007T074500Z
SUMMARY:Double Thrill: 2 Dope Teenz and The Gauntlet
GEO:-39.643693;176.844737
LOCATION:The Green Room\, 227 Heretaunga Street East\, Hastings\, Hawke's B
 ay\, 4122\, New Zealand
END:VEVENT
END:VCALENDAR
